Workbook

Sheet Lançamentos
A1: Número | B1: Programa | C1: Elemento de Despesa | D1: Beneficiário/Fornecedor | E1: Empenho | F1: Data Empenho | G1: Ordem Bancária | H1: Data Pagamento | I1: Valor | J1: PCDP | K1: Adiantamento/PROAP | L1: OBS
A2: 1 | B2: MÚSICA | C2: Diárias - Servidores | D2: Edwin Ricardo Pitre Vasquez | E2: 2026NE000264 | F2: 46048 | G2: 2026OB000889 | H2: 46071 | I2: 2297.25 | J2: 084/26 | K2: Adiantamento
A3: 2 | B3: PROPG | C3: Diárias - Servidores | D3: Tiago Venturi | E3: 2026NE000264 | F3: 46048 | G3: 2026OB001338 | H3: 46086 | I3: 1422.27 | J3: 029/26 | K3: Adiantamento
A4: 3 | B4: PLANEJAMENTO URBANO | C4: Diárias - Servidores | D4: Maria do Livramento Miranda Clementino | E4: 2026NE000264 | F4: 46048 | G4: 2026OB001570 | H4: 46091 | I4: 1116.36 | J4: 240/26 | K4: Adiantamento
A5: 4 | B5: COMUNICAÇÃO | C5: Diárias - Servidores | D5: Rogério Christofoletti | E5: 2026NE000264 | F5: 46048 | G5: 2026OB001995 | H5: 46107 | I5: 463.18 | J5: 219/26 | K5: Adiantamento
A6: 5 | B6: PROPG | C6: Diárias - Servidores | D6: Ricardo Limongi França Coelho | E6: 2026NE000264 | F6: 46048 | G6: 2026OB002396 | H6: 46119 | I6: 558.18 | J6: 202/26 | K6: Adiantamento
A7: 6 | B7: PSICOLOGIA | C7: Diárias - Servidores | D7: Miriam Cristiane Alves | E7: 2026NE000264 | F7: 46048 | G7: 2026OB002415 | H7: 46119 | I7: 334.55 | J7: 004/26 | K7: Adiantamento
A8: 7 | B8: PSICOLOGIA | C8: Serviços de PF/Diárias de Colaboradores | D8: Kwame Yonatan Poli dos Santos | E8: 2026NE000265 | F8: 46048 | G8: 2026OB001905 | H8: 46105 | I8: 380 | J8: 024/26 | K8: Adiantamento
A9: 8 | B9: DESENVOLVIMENTO ECONÔMICO | C9: Serviços de PF/Diárias de Colaboradores | D9: Jose Gabriel Porcile Meirelles | E9: 2026NE000265 | F9: 46048 | G9: 2026OB001993 | H9: 46107 | I9: 1330 | J9: 012/26 | K9: Adiantamento
A10: 9 | B10: PSICOLOGIA | C10: Serviços de PF/Diárias de Colaboradores | D10: Robson Nascimento da Cruz | E10: 2026NE000265 | F10: 46048 | G10: 2026OB002284 | H10: 46118 | I10: 380 | J10: 006/26 | K10: Adiantamento
A11: 10 | B11: GESTÃO DA INFORMAÇÃO | C11: Serviços de PF/Diárias de Colaboradores | D11: Claudia Andrea Lima Cardoso | E11: 2026NE000265 | F11: 46048 | G11: 2026OB003224 | H11: 46147 | I11: 475 | J11: 435/26 | K11: Adiantamento
A12: 11 | B12: PSICOLOGIA | C12: Serviços de PF/Diárias de Colaboradores | D12: Rodolfo Rodrigues de Souza | E12: 2026NE000265 | F12: 46048 | G12: 2026OB004106 | H12: 46170 | I12: 380 | J12: 005/26 | K12: Adiantamento
A13: 12 | B13: ENFERMAGEM | C13: Diárias - Servidores | D13: Rafaela Gessner Lourenço | E13: 2026NE000844 | F13: 46084 | G13: 2026OB001396 | H13: 46086 | I13: 10331.86 | J13: 207/26 | K13: Adiantamento
... A71: 70 | B71: COMUNICAÇÃO | C71: Auxílio Financeiro Estudantes | D71: Kevin Willian Kossar Furtado | E71: 2026NE001513 | F71: 46128 | G71: 2026OB003512 | H71: 46150 | I71: 850 | J71: N/D | K71: Adiantamento
A72: 71 | B72: COMUNICAÇÃO | C72: Auxílio Financeiro Estudantes | D72: Priscila de Jesus Silva | E72: 2026NE001513 | F72: 46128 | G72: 2026OB003512 | H72: 46150 | I72: 0 | J72: N/D | K72: Adiantamento | L72: DEVOLVIDO
A73: 72 | B73: COMUNICAÇÃO | C73: Auxílio Financeiro Estudantes | D73: Felipe Cardoso dos Santos | E73: 2026NE001513 | F73: 46128 | G73: 2026OB003512 | H73: 46150 | I73: 850 | J73: N/D | K73: Adiantamento
A74: 73 | B74: COMUNICAÇÃO | C74: Auxílio Financeiro Estudantes | D74: Murilo Lemos Bernardon | E74: 2026NE001513 | F74: 46128 | G74: 2026OB003512 | H74: 46150 | I74: 850 | J74: N/D | K74: Adiantamento
A75: 74 | B75: COMUNICAÇÃO | C75: Auxílio Financeiro Estudantes | D75: Mariana Basso Apolinário | E75: 2026NE001513 | F75: 46128 | G75: 2026OB003512 | H75: 46150 | I75: 850 | J75: N/D | K75: Adiantamento
A76: 75 | B76: COMUNICAÇÃO | C76: Auxílio Financeiro Estudantes | D76: Daniella Paula Rodrigues | E76: 2026NE001513 | F76: 46128 | G76: 2026OB003512 | H76: 46150 | I76: 850 | J76: N/D | K76: Adiantamento
A77: 76 | B77: COMUNICAÇÃO | C77: Auxílio Financeiro Estudantes | D77: Lucas de Mendonça Azevedo | E77: 2026NE001513 | F77: 46128 | G77: 2026OB003512 | H77: 46150 | I77: 850 | J77: N/D | K77: Adiantamento
A78: 77 | B78: COMUNICAÇÃO | C78: Auxílio Financeiro Estudantes | D78: Cintia Silva da Conceição | E78: 2026NE001513 | F78: 46128 | G78: 2026OB003512 | H78: 46150 | I78: 850 | J78: N/D | K78: Adiantamento
A79: 78 | B79: COMUNICAÇÃO | C79: Auxílio Financeiro Estudantes | D79: Victor Finkler Lachowski | E79: 2026NE001513 | F79: 46128 | G79: 2026OB003512 | H79: 46150 | I79: 850 | J79: N/D | K79: Adiantamento
A80: 79 | B80: COMUNICAÇÃO | C80: Auxílio Financeiro Estudantes | D80: Caroline de França Uniga | E80: 2026NE001513 | F80: 46128 | G80: 2026OB003512 | H80: 46150 | I80: 180 | J80: N/D | K80: Adiantamento
A81: 80 | B81: COMUNICAÇÃO | C81: Auxílio Financeiro Estudantes | D81: José Eduardo de Souza Simoes | E81: 2026NE001513 | F81: 46128 | G81: 2026OB003512 | H81: 46150 | I81: 850 | J81: N/D | K81: Adiantamento
A82: 81 | B82: CIENCIA DO SOLO | C82: Auxílio Financeiro Estudantes | D82: Kaline Aparecida Wagner | E82: 2026NE001513 | F82: 46128 | G82: 2026OB003512 | H82: 46150 | I82: 1000 | J82: N/D | K82: Adiantamento
A83: 82 | B83: CIENCIA DO SOLO | C83: Auxílio Financeiro Estudantes | D83: Laura Cristiane Nascimento de Freitas | E83: 2026NE001513 | F83: 46128 | G83: 2026OB004034 | H83: 46167 | I83: 700 | J83: N/D | K83: Adiantamento
A84: 83 | B84: CIENCIA DO SOLO | C84: Auxílio Financeiro Estudantes | D84: Bruna Stewart | E84: 2026NE001513 | F84: 46128 | G84: 2026OB004035 | H84: 46167 | I84: 700 | J84: N/D | K84: Adiantamento
... A90: 89 | B90: ENGENHARIA FLORESTAL | C90: Auxílio Financeiro Estudantes | D90: Arandi Diego Dallarosa | E90: 2026NE001513 | F90: 46128 | G90: 2026OB005587 | H90: 46210 | I90: 1500 | J90: N/D | K90: Adiantamento
A91: 90 | B91: ENGENHARIA AMBIENTAL | C91: Auxílio Financeiro Estudantes | D91: Danilo de Oliveira Sant'Ana | E91: 2026NE001513 | F91: 46128 | G91: 2026OB005587 | H91: 46210 | I91: 0 | J91: N/D | K91: Adiantamento | L91: DEVOLVIDO
A92: 91 | B92: DESENVOLVIMENTO ECONÔMICO | C92: Auxílio Financeiro Estudantes | D92: Caio de Andrade Forcione | E92: 2026NE001513 | F92: 46128 | G92: 2026OB005587 | H92: 46210 | I92: 500 | J92: N/D | K92: Adiantamento
A93: 92 | B93: DESENVOLVIMENTO ECONÔMICO | C93: Auxílio Financeiro Estudantes | D93: Debora Pereira de Paiva | E93: 2026NE001513 | F93: 46128 | G93: 2026OB005587 | H93: 46210 | I93: 500 | J93: N/D | K93: Adiantamento
A94: 93 | B94: MATEMÁTICA | C94: Auxílio Financeiro Estudantes | D94: Gustavo Freire Schafhauser | E94: 2026NE001513 | F94: 46128 | G94: 2026OB005587 | H94: 46210 | I94: 1300 | J94: N/D | K94: Adiantamento
A95: 94 | B95: MATEMÁTICA | C95: Auxílio Financeiro Estudantes | D95: Moroni Menesses Bruch Bora | E95: 2026NE001513 | F95: 46128 | G95: 2026OB005587 | H95: 46210 | I95: 1100 | J95: N/D | K95: Adiantamento
A96: 95 | B96: MATEMÁTICA | C96: Auxílio Financeiro Estudantes | D96: João Gabriel Chiorato | E96: 2026NE001513 | F96: 46128 | G96: 2026OB005587 | H96: 46210 | I96: 1100 | J96: N/D | K96: Adiantamento
A97: 96 | B97: DESENVOLVIMENTO ECONÔMICO | C97: Auxílio Financeiro Estudantes | D97: Maria Heloisa Charello | E97: 2026NE001513 | F97: 46128 | G97: 2026OB005587 | H97: 46210 | I97: 500 | J97: N/D | K97: Adiantamento
A98: 97 | B98: DESENVOLVIMENTO ECONÔMICO | C98: Auxílio Financeiro Estudantes | D98: Luiz Fernando Rotelli Junior | E98: 2026NE001513 | F98: 46128 | G98: 2026OB005587 | H98: 46210 | I98: 500 | J98: N/D | K98: Adiantamento
A99: 98 | B99: ENGENHARIA AMBIENTAL | C99: Auxílio Financeiro Estudantes | D99: Rafael de Carvalho Bueno | E99: 2026NE001513 | F99: 46128 | G99: 2026OB005587 | H99: 46210 | I99: 2100 | J99: N/D | K99: Adiantamento
A100: 99 | B100: EDUCAÇÃO EM CIÊNCIAS, EDUCAÇÃO MATEMÁTICA E TECNOLOGIAS EDUCATIVAS | C100: Auxílio Financeiro Estudantes | D100: Monica Morales Garcia | E100: 2026NE001513 | F100: 46128 | G100: 2026OB005587 | H100: 46210 | I100: 1140 | J100: N/D | K100: Adiantamento
A101: 100 | B101: COMUNICAÇÃO | C101: Auxílio Financeiro Estudantes | D101: Josiany Fiedler Vieira | E101: 2026NE001513 | F101: 46128 | G101: 2026OB005587 | H101: 46210 | I101: 300 | J101: N/D | K101: Adiantamento
A102: 101 | B102: ANTROPOLOGIA E ARQUEOLOGIA | C102: Auxílio Financeiro Estudantes | D102: Laísla Dantas Chagas | E102: 2026NE001513 | F102: 46128 | G102: 2026OB005587 | H102: 46210 | I102: 1500 | J102: N/D | K102: Adiantamento
...

Sheet Saldos 
A1: Recurso | B1: PPG | C1: Valor liberado | D1: Valor Gasto | E1: SALDO ATUAL | G1: =TODAY() -> 46307 | H1: % Executado | J1: Distribuição por Elemento de Despesa
A2: PROEX | B2: ADMINISTRAÇÃO | D2: ='Gastos por Rubrica'!B2 -> 0 | E2: EXECUTADO PELO PPG | J2: Diárias - Servidores | K2: 339014 | L2: 255000
A3: PROEX | B3: AGRONOMIA (PRODUÇÃO VEGETAL) | D3: ='Gastos por Rubrica'!B3 -> 0 | E3: EXECUTADO PELO PPG | J3: Auxílio Financeiro Estudantes | K3: 339018 | L3: 334564
A4: PROAP | B4: ALIMENTAÇÃO E NUTRIÇÃO | C4: 20000 | D4: ='Gastos por Rubrica'!B4 -> 6567.04 | E4: =C4-D4 -> 13432.96 | H4: =D4/C4 -> 0.328352 | J4: Auxílio Financeiro Pesquisador | K4: 339020 | L4: 90000
A5: PROAP | B5: ANTROPOLOGIA E ARQUEOLOGIA | C5: 49476 | D5: ='Gastos por Rubrica'!B5 -> 23894.35 | E5: =C5-D5 -> 25581.65 | H5: =D5/C5 -> 0.4829483 | J5: Material de Consumo | K5: 339030 | L5: 390000
A6: PROAP | B6: AQUICULTURA E DESENVOLVIMENTO SUSTENTÁVEL | C6: 20000 | D6: ='Gastos por Rubrica'!B6 -> 7686.08 | E6: =C6-D6 -> 12313.92 | H6: =D6/C6 -> 0.384304 | J6: Passagens Aéreas/Terrestres | K6: 339033 | L6: 100000
A7: PROAP | B7: BIOINFORMÁTICA | C7: 20000 | D7: ='Gastos por Rubrica'!B7 -> 16292.43 | E7: =C7-D7 -> 3707.57 | H7: =D7/C7 -> 0.8146215 | J7: Serviços de PF/Diárias de Colaboradores | K7: 339036 | L7: 200000
A8: PROAP | B8: BIOLOGIA CELULAR E MOLECULAR | C8: 34794 | D8: ='Gastos por Rubrica'!B8 -> 27491.39 | E8: =C8-D8 -> 7302.61 | H8: =D8/C8 -> 0.7901187 | J8: Serviços de Terceiros - PJ | K8: 339039 | L8: 1025000
A9: PROAP | B9: BIOTECNOLOGIA | C9: 20000 | D9: ='Gastos por Rubrica'!B9 -> 1113.28 | E9: =C9-D9 -> 18886.72 | H9: =D9/C9 -> 0.055664 | J9: Serviços de TIC | K9: 339040 | L9: 100000
A10: PROAP | B10: BOTÂNICA | C10: 27680 | D10: ='Gastos por Rubrica'!B10 -> 10151.83 | E10: =C10-D10 -> 17528.17 | H10: =D10/C10 -> 0.36675686 | J10: Obrigações Tributárias | K10: 339147 | L10: 10000
A11: PROAP | B11: CIÊNCIA ANIMAL | C11: 30242 | D11: ='Gastos por Rubrica'!B11 -> 5251.64 | E11: =C11-D11 -> 24990.36 | H11: =D11/C11 -> 0.17365386 | J11: Ressarcimentos | K11: TOTAL | L11: =SUM(L2:L10) -> 2504564
A12: PROAP | B12: CIENCIA DO SOLO | C12: 42890 | D12: ='Gastos por Rubrica'!B12 -> 10630.38 | E12: =C12-D12 -> 32259.62 | H12: =D12/C12 -> 0.24785218 | J12: Reconhecimento Dívida
A13: PROEX | B13: CIÊNCIA POLÍTICA | D13: ='Gastos por Rubrica'!B13 -> 0 | E13: EXECUTADO PELO PPG
A14: PROEX | B14: CIÊNCIAS (BIOQUÍMICA) | D14: ='Gastos por Rubrica'!B14 -> 0 | E14: EXECUTADO PELO PPG
A15: PROAP | B15: CIÊNCIAS BIOLÓGICAS (ENTOMOLOGIA) | C15: 41684 | D15: ='Gastos por Rubrica'!B15 -> 4569.1 | E15: =C15-D15 -> 37114.9 | H15: =D15/C15 -> 0.1096128
A16: PROAP | B16: CIÊNCIAS FARMACÊUTICAS | C16: 101592 | D16: ='Gastos por Rubrica'!B16 -> 107054.17 | E16: =C16-D16 -> -5462.17 | H16: =D16/C16 -> 1.0537657
A17: PROAP | B17: CIÊNCIAS GEODÉSICAS | C17: 45328 | D17: ='Gastos por Rubrica'!B17 -> 11122.21 | E17: =C17-D17 -> 34205.79 | H17: =D17/C17 -> 0.24537173
A18: PROEX | B18: CIÊNCIAS VETERINÁRIAS | D18: ='Gastos por Rubrica'!B18 -> 0 | E18: EXECUTADO PELO PPG
A19: PROAP | B19: COMUNICAÇÃO | C19: 68130 | D19: ='Gastos por Rubrica'!B19 -> 38422.86 | E19: =C19-D19 -> 29707.14 | H19: =D19/C19 -> 0.56396389
A20: PROAP | B20: CONTABILIDADE | C20: 43494 | D20: ='Gastos por Rubrica'!B20 -> 20773.15 | E20: =C20-D20 -> 22720.85 | H20: =D20/C20 -> 0.47760956
A21: PROAP | B21: DESENVOLVIMENTO ECONÔMICO | C21: 36378 | D21: ='Gastos por Rubrica'!B21 -> 16271.68 | E21: =C21-D21 -> 20106.32 | H21: =D21/C21 -> 0.44729452
A22: PROAP | B22: DESENVOLVIMENTO TERRITORIAL SUSTENTÁVEL | C22: 20000 | D22: ='Gastos por Rubrica'!B22 -> 8195.49 | E22: =C22-D22 -> 11804.51 | H22: =D22/C22 -> 0.4097745
A23: PROAP | B23: DESIGN | C23: 47842 | D23: ='Gastos por Rubrica'!B23 -> 6808.86 | E23: =C23-D23 -> 41033.14 | H23: =D23/C23 -> 0.14231972
A24: PROEX | B24: DIREITO | D24: ='Gastos por Rubrica'!B24 -> 0 | E24: EXECUTADO PELO PPG
A25: PROEX | B25: ECOLOGIA E CONSERVAÇÃO | D25: ='Gastos por Rubrica'!B25 -> 0 | E25: EXECUTADO PELO PPG
A26: PROEX | B26: EDUCAÇÃO | D26: ='Gastos por Rubrica'!B26 -> 0 | E26: EXECUTADO PELO PPG
A27: PROAP | B27: EDUCAÇÃO EM CIÊNCIAS E EM MATEMÁTICA | C27: 71108 | D27: ='Gastos por Rubrica'!B27 -> 23680.91 | E27: =C27-D27 -> 47427.09 | H27: =D27/C27 -> 0.33302737
A28: PROAP | B28: EDUCAÇÃO EM CIÊNCIAS, EDUCAÇÃO MATEMÁTICA E TECNOLOGIAS EDUCATIVAS | C28: 20000 | D28: ='Gastos por Rubrica'!B28 -> 18112.64 | E28: =C28-D28 -> 1887.36 | H28: =D28/C28 -> 0.905632
A29: PROEX | B29: EDUCAÇÃO FÍSICA | D29: ='Gastos por Rubrica'!B29 -> 0 | E29: EXECUTADO PELO PPG
A30: PROAP | B30: ENFERMAGEM | C30: 68060 | D30: ='Gastos por Rubrica'!B30 -> 41294.21 | E30: =C30-D30 -> 26765.79 | H30: =D30/C30 -> 0.60673244
A31: PROAP | B31: ENGENHARIA AMBIENTAL | C31: 20000 | D31: ='Gastos por Rubrica'!B31 -> 14708.25 | E31: =C31-D31 -> 5291.75 | H31: =D31/C31 -> 0.7354125
A32: PROAP | B32: ENGENHARIA CIVIL | C32: 58924 | D32: ='Gastos por Rubrica'!B32 -> 20719.41 | E32: =C32-D32 -> 38204.59 | H32: =D32/C32 -> 0.35162939
A33: PROEX | B33: ENGENHARIA DE ALIMENTOS | D33: ='Gastos por Rubrica'!B33 -> 0 | E33: EXECUTADO PELO PPG
A34: PROEX | B34: ENGENHARIA DE BIOPROCESSOS E BIOTECNOLOGIA | D34: ='Gastos por Rubrica'!B34 -> 0 | E34: EXECUTADO PELO PPG
A35: PROAP | B35: ENGENHARIA DE PRODUÇÃO | C35: 20000 | D35: ='Gastos por Rubrica'!B35 -> 9129.47 | E35: =C35-D35 -> 10870.53 | H35: =D35/C35 -> 0.4564735
A36: PROAP | B36: ENGENHARIA DE RECURSOS HÍDRICOS E AMBIENTAL | C36: 38134 | D36: ='Gastos por Rubrica'!B36 -> 10479.71 | E36: =C36-D36 -> 27654.29 | H36: =D36/C36 -> 0.27481277
A37: PROAP | B37: ENGENHARIA E CIÊNCIA DOS MATERIAIS | C37: 44448 | D37: ='Gastos por Rubrica'!B37 -> 29280.24 | E37: =C37-D37 -> 15167.76 | H37: =D37/C37 -> 0.6587527
A38: Em rede | B38: ENGENHARIA E TECNOLOGIA AMBIENTAL | D38: ='Gastos por Rubrica'!B38 -> 0 | E38: EM REDE - EXECUTADO PELO PPG
A39: PROAP | B39: ENGENHARIA ELÉTRICA | C39: 54002 | D39: ='Gastos por Rubrica'!B39 -> 24932.56 | E39: =C39-D39 -> 29069.44 | H39: =D39/C39 -> 0.46169697
A40: PROAP | B40: ENGENHARIA FLORESTAL | C40: 94442 | D40: ='Gastos por Rubrica'!B40 -> 56780.59 | E40: =C40-D40 -> 37661.41 | H40: =D40/C40 -> 0.60122181
...

Sheet Gastos por Rubrica
A1: PPG | B1: Total Gasto | C1: Auxílio Financeiro Estudantes | D1: Diárias - Servidores | E1: Serviços de PF/Diárias de Colaboradores | F1: Passagens Aéreas/Terrestres | G1: Material de Consumo | H1: Serviços de Terceiros - PJ | I1: Auxílio Financeiro Pesquisador | J1: Serviços de TIC | K1: Obrigações Tributárias | L1: Ressarcimentos | M1: Reconhecimento Dívida
A2: ADMINISTRAÇÃO | B2: =SUM(C2:M2) -> 0 | C2: =SUMIFS(Lançamentos!$I$2:$I$2004,Lançamentos!$B$2:$B$2004,A2,Lançamentos!$C$2:$C$2004,$C$1) -> 0 | D2: =SUMIFS(Lançamentos!$I$2:$I$2004,Lançamentos!$B$2:$B$2004,A2,Lançamentos!$C$2:$C$2004,$D$1) -> 0 | E2: =SUMIFS(Lançamentos!$I$2:$I$2004,Lançamentos!$B$2:$B$2004,A2,Lançamentos!$C$2:$C$2004,$E$1) -> 0 | F2: =SUMIFS(Lançamentos!$I$2:$I$2004,Lançamentos!$B$2:$B$2004,A2,Lançamentos!$C$2:$C$2004,$F$1) -> 0 | G2: =SUMIFS(Lançamentos!$I$2:$I$2004,Lançamentos!$B$2:$B$2004,A2,Lançamentos!$C$2:$C$2004,$G$1) -> 0 | H2: =SUMIFS(Lançamentos!$I$2:$I$2004,Lançamentos!$B$2:$B$2004,A2,Lançamentos!$C$2:$C$2004,$H$1) -> 0 | I2: =SUMIFS(Lançamentos!$I$2:$I$2004,Lançamentos!$B$2:$B$2004,A2,Lançamentos!$C$2:$C$2004,$I$1) -> 0 | J2: =SUMIFS(Lançamentos!$I$2:$I$2004,Lançamentos!$B$2:$B$2004,A2,Lançamentos!$C$2:$C$2004,$J$1) -> 0 | K2: =SUMIFS(Lançamentos!$I$2:$I$2004,Lançamentos!$B$2:$B$2004,A2,Lançamentos!$C$2:$C$2004,$K$1) -> 0 | L2: =SUMIFS(Lançamentos!$I$2:$I$2004,Lançamentos!$B$2:$B$2004,A2,Lançamentos!$C$2:$C$2004,$L$1) -> 0 | M2: =SUMIFS(Lançamentos!$I$2:$I$2004,Lançamentos!$B$2:$B$2004,A2,Lançamentos!$C$2:$C$2004,$M$1) -> 0
A3: AGRONOMIA (PRODUÇÃO VEGETAL) | B3: =SUM(C3:M3) -> 0 | C3: =SUMIFS(Lançamentos!$I$2:$I$2004,Lançamentos!$B$2:$B$2004,A3,Lançamentos!$C$2:$C$2004,$C$1) -> 0 | D3: =SUMIFS(Lançamentos!$I$2:$I$2004,Lançamentos!$B$2:$B$2004,A3,Lançamentos!$C$2:$C$2004,$D$1) -> 0 | E3: =SUMIFS(Lançamentos!$I$2:$I$2004,Lançamentos!$B$2:$B$2004,A3,Lançamentos!$C$2:$C$2004,$E$1) -> 0 | F3: =SUMIFS(Lançamentos!$I$2:$I$2004,Lançamentos!$B$2:$B$2004,A3,Lançamentos!$C$2:$C$2004,$F$1) -> 0 | G3: =SUMIFS(Lançamentos!$I$2:$I$2004,Lançamentos!$B$2:$B$2004,A3,Lançamentos!$C$2:$C$2004,$G$1) -> 0 | H3: =SUMIFS(Lançamentos!$I$2:$I$2004,Lançamentos!$B$2:$B$2004,A3,Lançamentos!$C$2:$C$2004,$H$1) -> 0 | I3: =SUMIFS(Lançamentos!$I$2:$I$2004,Lançamentos!$B$2:$B$2004,A3,Lançamentos!$C$2:$C$2004,$I$1) -> 0 | J3: =SUMIFS(Lançamentos!$I$2:$I$2004,Lançamentos!$B$2:$B$2004,A3,Lançamentos!$C$2:$C$2004,$J$1) -> 0 | K3: =SUMIFS(Lançamentos!$I$2:$I$2004,Lançamentos!$B$2:$B$2004,A3,Lançamentos!$C$2:$C$2004,$K$1) -> 0 | L3: =SUMIFS(Lançamentos!$I$2:$I$2004,Lançamentos!$B$2:$B$2004,A3,Lançamentos!$C$2:$C$2004,$L$1) -> 0 | M3: =SUMIFS(Lançamentos!$I$2:$I$2004,Lançamentos!$B$2:$B$2004,A3,Lançamentos!$C$2:$C$2004,$M$1) -> 0
A4: ALIMENTAÇÃO E NUTRIÇÃO | B4: =SUM(C4:M4) -> 6567.04 | C4: =SUMIFS(Lançamentos!$I$2:$I$2004,Lançamentos!$B$2:$B$2004,A4,Lançamentos!$C$2:$C$2004,$C$1) -> 1000 | D4: =SUMIFS(Lançamentos!$I$2:$I$2004,Lançamentos!$B$2:$B$2004,A4,Lançamentos!$C$2:$C$2004,$D$1) -> 1389.1 | E4: =SUMIFS(Lançamentos!$I$2:$I$2004,Lançamentos!$B$2:$B$2004,A4,Lançamentos!$C$2:$C$2004,$E$1) -> 0 | F4: =SUMIFS(Lançamentos!$I$2:$I$2004,Lançamentos!$B$2:$B$2004,A4,Lançamentos!$C$2:$C$2004,$F$1) -> 0 | G4: =SUMIFS(Lançamentos!$I$2:$I$2004,Lançamentos!$B$2:$B$2004,A4,Lançamentos!$C$2:$C$2004,$G$1) -> 2511.28 | H4: =SUMIFS(Lançamentos!$I$2:$I$2004,Lançamentos!$B$2:$B$2004,A4,Lançamentos!$C$2:$C$2004,$H$1) -> 0 | I4: =SUMIFS(Lançamentos!$I$2:$I$2004,Lançamentos!$B$2:$B$2004,A4,Lançamentos!$C$2:$C$2004,$I$1) -> 1666.66 | J4: =SUMIFS(Lançamentos!$I$2:$I$2004,Lançamentos!$B$2:$B$2004,A4,Lançamentos!$C$2:$C$2004,$J$1) -> 0 | K4: =SUMIFS(Lançamentos!$I$2:$I$2004,Lançamentos!$B$2:$B$2004,A4,Lançamentos!$C$2:$C$2004,$K$1) -> 0 | L4: =SUMIFS(Lançamentos!$I$2:$I$2004,Lançamentos!$B$2:$B$2004,A4,Lançamentos!$C$2:$C$2004,$L$1) -> 0 | M4: =SUMIFS(Lançamentos!$I$2:$I$2004,Lançamentos!$B$2:$B$2004,A4,Lançamentos!$C$2:$C$2004,$M$1) -> 0
A5: ANTROPOLOGIA E ARQUEOLOGIA | B5: =SUM(C5:M5) -> 23894.35 | C5: =SUMIFS(Lançamentos!$I$2:$I$2004,Lançamentos!$B$2:$B$2004,A5,Lançamentos!$C$2:$C$2004,$C$1) -> 19500 | D5: =SUMIFS(Lançamentos!$I$2:$I$2004,Lançamentos!$B$2:$B$2004,A5,Lançamentos!$C$2:$C$2004,$D$1) -> 1873.28 | E5: =SUMIFS(Lançamentos!$I$2:$I$2004,Lançamentos!$B$2:$B$2004,A5,Lançamentos!$C$2:$C$2004,$E$1) -> 0 | F5: =SUMIFS(Lançamentos!$I$2:$I$2004,Lançamentos!$B$2:$B$2004,A5,Lançamentos!$C$2:$C$2004,$F$1) -> 1421.07 | G5: =SUMIFS(Lançamentos!$I$2:$I$2004,Lançamentos!$B$2:$B$2004,A5,Lançamentos!$C$2:$C$2004,$G$1) -> 0 | H5: =SUMIFS(Lançamentos!$I$2:$I$2004,Lançamentos!$B$2:$B$2004,A5,Lançamentos!$C$2:$C$2004,$H$1) -> 1100 | I5: =SUMIFS(Lançamentos!$I$2:$I$2004,Lançamentos!$B$2:$B$2004,A5,Lançamentos!$C$2:$C$2004,$I$1) -> 0 | J5: =SUMIFS(Lançamentos!$I$2:$I$2004,Lançamentos!$B$2:$B$2004,A5,Lançamentos!$C$2:$C$2004,$J$1) -> 0 | K5: =SUMIFS(Lançamentos!$I$2:$I$2004,Lançamentos!$B$2:$B$2004,A5,Lançamentos!$C$2:$C$2004,$K$1) -> 0 | L5: =SUMIFS(Lançamentos!$I$2:$I$2004,Lançamentos!$B$2:$B$2004,A5,Lançamentos!$C$2:$C$2004,$L$1) -> 0 | M5: =SUMIFS(Lançamentos!$I$2:$I$2004,Lançamentos!$B$2:$B$2004,A5,Lançamentos!$C$2:$C$2004,$M$1) -> 0
A6: AQUICULTURA E DESENVOLVIMENTO SUSTENTÁVEL | B6: =SUM(C6:M6) -> 7686.08 | C6: =SUMIFS(Lançamentos!$I$2:$I$2004,Lançamentos!$B$2:$B$2004,A6,Lançamentos!$C$2:$C$2004,$C$1) -> 1636.36 | D6: =SUMIFS(Lançamentos!$I$2:$I$2004,Lançamentos!$B$2:$B$2004,A6,Lançamentos!$C$2:$C$2004,$D$1) -> 6049.72 | E6: =SUMIFS(Lançamentos!$I$2:$I$2004,Lançamentos!$B$2:$B$2004,A6,Lançamentos!$C$2:$C$2004,$E$1) -> 0 | F6: =SUMIFS(Lançamentos!$I$2:$I$2004,Lançamentos!$B$2:$B$2004,A6,Lançamentos!$C$2:$C$2004,$F$1) -> 0 | G6: =SUMIFS(Lançamentos!$I$2:$I$2004,Lançamentos!$B$2:$B$2004,A6,Lançamentos!$C$2:$C$2004,$G$1) -> 0 | H6: =SUMIFS(Lançamentos!$I$2:$I$2004,Lançamentos!$B$2:$B$2004,A6,Lançamentos!$C$2:$C$2004,$H$1) -> 0 | I6: =SUMIFS(Lançamentos!$I$2:$I$2004,Lançamentos!$B$2:$B$2004,A6,Lançamentos!$C$2:$C$2004,$I$1) -> 0 | J6: =SUMIFS(Lançamentos!$I$2:$I$2004,Lançamentos!$B$2:$B$2004,A6,Lançamentos!$C$2:$C$2004,$J$1) -> 0 | K6: =SUMIFS(Lançamentos!$I$2:$I$2004,Lançamentos!$B$2:$B$2004,A6,Lançamentos!$C$2:$C$2004,$K$1) -> 0 | L6: =SUMIFS(Lançamentos!$I$2:$I$2004,Lançamentos!$B$2:$B$2004,A6,Lançamentos!$C$2:$C$2004,$L$1) -> 0 | M6: =SUMIFS(Lançamentos!$I$2:$I$2004,Lançamentos!$B$2:$B$2004,A6,Lançamentos!$C$2:$C$2004,$M$1) -> 0
A7: BIOINFORMÁTICA | B7: =SUM(C7:M7) -> 16292.43 | C7: =SUMIFS(Lançamentos!$I$2:$I$2004,Lançamentos!$B$2:$B$2004,A7,Lançamentos!$C$2:$C$2004,$C$1) -> 2066.35 | D7: =SUMIFS(Lançamentos!$I$2:$I$2004,Lançamentos!$B$2:$B$2004,A7,Lançamentos!$C$2:$C$2004,$D$1) -> 1365.78 | E7: =SUMIFS(Lançamentos!$I$2:$I$2004,Lançamentos!$B$2:$B$2004,A7,Lançamentos!$C$2:$C$2004,$E$1) -> 0 | F7: =SUMIFS(Lançamentos!$I$2:$I$2004,Lançamentos!$B$2:$B$2004,A7,Lançamentos!$C$2:$C$2004,$F$1) -> 1331.78 | G7: =SUMIFS(Lançamentos!$I$2:$I$2004,Lançamentos!$B$2:$B$2004,A7,Lançamentos!$C$2:$C$2004,$G$1) -> 0 | H7: =SUMIFS(Lançamentos!$I$2:$I$2004,Lançamentos!$B$2:$B$2004,A7,Lançamentos!$C$2:$C$2004,$H$1) -> 0 | I7: =SUMIFS(Lançamentos!$I$2:$I$2004,Lançamentos!$B$2:$B$2004,A7,Lançamentos!$C$2:$C$2004,$I$1) -> 11528.52 | J7: =SUMIFS(Lançamentos!$I$2:$I$2004,Lançamentos!$B$2:$B$2004,A7,Lançamentos!$C$2:$C$2004,$J$1) -> 0 | K7: =SUMIFS(Lançamentos!$I$2:$I$2004,Lançamentos!$B$2:$B$2004,A7,Lançamentos!$C$2:$C$2004,$K$1) -> 0 | L7: =SUMIFS(Lançamentos!$I$2:$I$2004,Lançamentos!$B$2:$B$2004,A7,Lançamentos!$C$2:$C$2004,$L$1) -> 0 | M7: =SUMIFS(Lançamentos!$I$2:$I$2004,Lançamentos!$B$2:$B$2004,A7,Lançamentos!$C$2:$C$2004,$M$1) -> 0
A8: BIOLOGIA CELULAR E MOLECULAR | B8: =SUM(C8:M8) -> 27491.39 | C8: =SUMIFS(Lançamentos!$I$2:$I$2004,Lançamentos!$B$2:$B$2004,A8,Lançamentos!$C$2:$C$2004,$C$1) -> 3921.97 | D8: =SUMIFS(Lançamentos!$I$2:$I$2004,Lançamentos!$B$2:$B$2004,A8,Lançamentos!$C$2:$C$2004,$D$1) -> 0 | E8: =SUMIFS(Lançamentos!$I$2:$I$2004,Lançamentos!$B$2:$B$2004,A8,Lançamentos!$C$2:$C$2004,$E$1) -> 0 | F8: =SUMIFS(Lançamentos!$I$2:$I$2004,Lançamentos!$B$2:$B$2004,A8,Lançamentos!$C$2:$C$2004,$F$1) -> 0 | G8: =SUMIFS(Lançamentos!$I$2:$I$2004,Lançamentos!$B$2:$B$2004,A8,Lançamentos!$C$2:$C$2004,$G$1) -> 0 | H8: =SUMIFS(Lançamentos!$I$2:$I$2004,Lançamentos!$B$2:$B$2004,A8,Lançamentos!$C$2:$C$2004,$H$1) -> 0 | I8: =SUMIFS(Lançamentos!$I$2:$I$2004,Lançamentos!$B$2:$B$2004,A8,Lançamentos!$C$2:$C$2004,$I$1) -> 23569.42 | J8: =SUMIFS(Lançamentos!$I$2:$I$2004,Lançamentos!$B$2:$B$2004,A8,Lançamentos!$C$2:$C$2004,$J$1) -> 0 | K8: =SUMIFS(Lançamentos!$I$2:$I$2004,Lançamentos!$B$2:$B$2004,A8,Lançamentos!$C$2:$C$2004,$K$1) -> 0 | L8: =SUMIFS(Lançamentos!$I$2:$I$2004,Lançamentos!$B$2:$B$2004,A8,Lançamentos!$C$2:$C$2004,$L$1) -> 0 | M8: =SUMIFS(Lançamentos!$I$2:$I$2004,Lançamentos!$B$2:$B$2004,A8,Lançamentos!$C$2:$C$2004,$M$1) -> 0
A9: BIOTECNOLOGIA | B9: =SUM(C9:M9) -> 1113.28 | C9: =SUMIFS(Lançamentos!$I$2:$I$2004,Lançamentos!$B$2:$B$2004,A9,Lançamentos!$C$2:$C$2004,$C$1) -> 0 | D9: =SUMIFS(Lançamentos!$I$2:$I$2004,Lançamentos!$B$2:$B$2004,A9,Lançamentos!$C$2:$C$2004,$D$1) -> 1113.28 | E9: =SUMIFS(Lançamentos!$I$2:$I$2004,Lançamentos!$B$2:$B$2004,A9,Lançamentos!$C$2:$C$2004,$E$1) -> 0 | F9: =SUMIFS(Lançamentos!$I$2:$I$2004,Lançamentos!$B$2:$B$2004,A9,Lançamentos!$C$2:$C$2004,$F$1) -> 0 | G9: =SUMIFS(Lançamentos!$I$2:$I$2004,Lançamentos!$B$2:$B$2004,A9,Lançamentos!$C$2:$C$2004,$G$1) -> 0 | H9: =SUMIFS(Lançamentos!$I$2:$I$2004,Lançamentos!$B$2:$B$2004,A9,Lançamentos!$C$2:$C$2004,$H$1) -> 0 | I9: =SUMIFS(Lançamentos!$I$2:$I$2004,Lançamentos!$B$2:$B$2004,A9,Lançamentos!$C$2:$C$2004,$I$1) -> 0 | J9: =SUMIFS(Lançamentos!$I$2:$I$2004,Lançamentos!$B$2:$B$2004,A9,Lançamentos!$C$2:$C$2004,$J$1) -> 0 | K9: =SUMIFS(Lançamentos!$I$2:$I$2004,Lançamentos!$B$2:$B$2004,A9,Lançamentos!$C$2:$C$2004,$K$1) -> 0 | L9: =SUMIFS(Lançamentos!$I$2:$I$2004,Lançamentos!$B$2:$B$2004,A9,Lançamentos!$C$2:$C$2004,$L$1) -> 0 | M9: =SUMIFS(Lançamentos!$I$2:$I$2004,Lançamentos!$B$2:$B$2004,A9,Lançamentos!$C$2:$C$2004,$M$1) -> 0
A10: BOTÂNICA | B10: =SUM(C10:M10) -> 10151.83 | C10: =SUMIFS(Lançamentos!$I$2:$I$2004,Lançamentos!$B$2:$B$2004,A10,Lançamentos!$C$2:$C$2004,$C$1) -> 9216 | D10: =SUMIFS(Lançamentos!$I$2:$I$2004,Lançamentos!$B$2:$B$2004,A10,Lançamentos!$C$2:$C$2004,$D$1) -> 0 | E10: =SUMIFS(Lançamentos!$I$2:$I$2004,Lançamentos!$B$2:$B$2004,A10,Lançamentos!$C$2:$C$2004,$E$1) -> 0 | F10: =SUMIFS(Lançamentos!$I$2:$I$2004,Lançamentos!$B$2:$B$2004,A10,Lançamentos!$C$2:$C$2004,$F$1) -> 0 | G10: =SUMIFS(Lançamentos!$I$2:$I$2004,Lançamentos!$B$2:$B$2004,A10,Lançamentos!$C$2:$C$2004,$G$1) -> 0 | H10: =SUMIFS(Lançamentos!$I$2:$I$2004,Lançamentos!$B$2:$B$2004,A10,Lançamentos!$C$2:$C$2004,$H$1) -> 0 | I10: =SUMIFS(Lançamentos!$I$2:$I$2004,Lançamentos!$B$2:$B$2004,A10,Lançamentos!$C$2:$C$2004,$I$1) -> 0 | J10: =SUMIFS(Lançamentos!$I$2:$I$2004,Lançamentos!$B$2:$B$2004,A10,Lançamentos!$C$2:$C$2004,$J$1) -> 0 | K10: =SUMIFS(Lançamentos!$I$2:$I$2004,Lançamentos!$B$2:$B$2004,A10,Lançamentos!$C$2:$C$2004,$K$1) -> 0 | L10: =SUMIFS(Lançamentos!$I$2:$I$2004,Lançamentos!$B$2:$B$2004,A10,Lançamentos!$C$2:$C$2004,$L$1) -> 0 | M10: =SUMIFS(Lançamentos!$I$2:$I$2004,Lançamentos!$B$2:$B$2004,A10,Lançamentos!$C$2:$C$2004,$M$1) -> 935.83
A11: CIÊNCIA ANIMAL | B11: =SUM(C11:M11) -> 5251.64 | C11: =SUMIFS(Lançamentos!$I$2:$I$2004,Lançamentos!$B$2:$B$2004,A11,Lançamentos!$C$2:$C$2004,$C$1) -> 1920 | D11: =SUMIFS(Lançamentos!$I$2:$I$2004,Lançamentos!$B$2:$B$2004,A11,Lançamentos!$C$2:$C$2004,$D$1) -> 2010 | E11: =SUMIFS(Lançamentos!$I$2:$I$2004,Lançamentos!$B$2:$B$2004,A11,Lançamentos!$C$2:$C$2004,$E$1) -> 0 | F11: =SUMIFS(Lançamentos!$I$2:$I$2004,Lançamentos!$B$2:$B$2004,A11,Lançamentos!$C$2:$C$2004,$F$1) -> 1321.64 | G11: =SUMIFS(Lançamentos!$I$2:$I$2004,Lançamentos!$B$2:$B$2004,A11,Lançamentos!$C$2:$C$2004,$G$1) -> 0 | H11: =SUMIFS(Lançamentos!$I$2:$I$2004,Lançamentos!$B$2:$B$2004,A11,Lançamentos!$C$2:$C$2004,$H$1) -> 0 | I11: =SUMIFS(Lançamentos!$I$2:$I$2004,Lançamentos!$B$2:$B$2004,A11,Lançamentos!$C$2:$C$2004,$I$1) -> 0 | J11: =SUMIFS(Lançamentos!$I$2:$I$2004,Lançamentos!$B$2:$B$2004,A11,Lançamentos!$C$2:$C$2004,$J$1) -> 0 | K11: =SUMIFS(Lançamentos!$I$2:$I$2004,Lançamentos!$B$2:$B$2004,A11,Lançamentos!$C$2:$C$2004,$K$1) -> 0 | L11: =SUMIFS(Lançamentos!$I$2:$I$2004,Lançamentos!$B$2:$B$2004,A11,Lançamentos!$C$2:$C$2004,$L$1) -> 0 | M11: =SUMIFS(Lançamentos!$I$2:$I$2004,Lançamentos!$B$2:$B$2004,A11,Lançamentos!$C$2:$C$2004,$M$1) -> 0
A12: CIENCIA DO SOLO | B12: =SUM(C12:M12) -> 10630.38 | C12: =SUMIFS(Lançamentos!$I$2:$I$2004,Lançamentos!$B$2:$B$2004,A12,Lançamentos!$C$2:$C$2004,$C$1) -> 9787.92 | D12: =SUMIFS(Lançamentos!$I$2:$I$2004,Lançamentos!$B$2:$B$2004,A12,Lançamentos!$C$2:$C$2004,$D$1) -> 842.46 | E12: =SUMIFS(Lançamentos!$I$2:$I$2004,Lançamentos!$B$2:$B$2004,A12,Lançamentos!$C$2:$C$2004,$E$1) -> 0 | F12: =SUMIFS(Lançamentos!$I$2:$I$2004,Lançamentos!$B$2:$B$2004,A12,Lançamentos!$C$2:$C$2004,$F$1) -> 0 | G12: =SUMIFS(Lançamentos!$I$2:$I$2004,Lançamentos!$B$2:$B$2004,A12,Lançamentos!$C$2:$C$2004,$G$1) -> 0 | H12: =SUMIFS(Lançamentos!$I$2:$I$2004,Lançamentos!$B$2:$B$2004,A12,Lançamentos!$C$2:$C$2004,$H$1) -> 0 | I12: =SUMIFS(Lançamentos!$I$2:$I$2004,Lançamentos!$B$2:$B$2004,A12,Lançamentos!$C$2:$C$2004,$I$1) -> 0 | J12: =SUMIFS(Lançamentos!$I$2:$I$2004,Lançamentos!$B$2:$B$2004,A12,Lançamentos!$C$2:$C$2004,$J$1) -> 0 | K12: =SUMIFS(Lançamentos!$I$2:$I$2004,Lançamentos!$B$2:$B$2004,A12,Lançamentos!$C$2:$C$2004,$K$1) -> 0 | L12: =SUMIFS(Lançamentos!$I$2:$I$2004,Lançamentos!$B$2:$B$2004,A12,Lançamentos!$C$2:$C$2004,$L$1) -> 0 | M12: =SUMIFS(Lançamentos!$I$2:$I$2004,Lançamentos!$B$2:$B$2004,A12,Lançamentos!$C$2:$C$2004,$M$1) -> 0
A13: CIÊNCIA POLÍTICA | B13: =SUM(C13:M13) -> 0 | C13: =SUMIFS(Lançamentos!$I$2:$I$2004,Lançamentos!$B$2:$B$2004,A13,Lançamentos!$C$2:$C$2004,$C$1) -> 0 | D13: =SUMIFS(Lançamentos!$I$2:$I$2004,Lançamentos!$B$2:$B$2004,A13,Lançamentos!$C$2:$C$2004,$D$1) -> 0 | E13: =SUMIFS(Lançamentos!$I$2:$I$2004,Lançamentos!$B$2:$B$2004,A13,Lançamentos!$C$2:$C$2004,$E$1) -> 0 | F13: =SUMIFS(Lançamentos!$I$2:$I$2004,Lançamentos!$B$2:$B$2004,A13,Lançamentos!$C$2:$C$2004,$F$1) -> 0 | G13: =SUMIFS(Lançamentos!$I$2:$I$2004,Lançamentos!$B$2:$B$2004,A13,Lançamentos!$C$2:$C$2004,$G$1) -> 0 | H13: =SUMIFS(Lançamentos!$I$2:$I$2004,Lançamentos!$B$2:$B$2004,A13,Lançamentos!$C$2:$C$2004,$H$1) -> 0 | I13: =SUMIFS(Lançamentos!$I$2:$I$2004,Lançamentos!$B$2:$B$2004,A13,Lançamentos!$C$2:$C$2004,$I$1) -> 0 | J13: =SUMIFS(Lançamentos!$I$2:$I$2004,Lançamentos!$B$2:$B$2004,A13,Lançamentos!$C$2:$C$2004,$J$1) -> 0 | K13: =SUMIFS(Lançamentos!$I$2:$I$2004,Lançamentos!$B$2:$B$2004,A13,Lançamentos!$C$2:$C$2004,$K$1) -> 0 | L13: =SUMIFS(Lançamentos!$I$2:$I$2004,Lançamentos!$B$2:$B$2004,A13,Lançamentos!$C$2:$C$2004,$L$1) -> 0 | M13: =SUMIFS(Lançamentos!$I$2:$I$2004,Lançamentos!$B$2:$B$2004,A13,Lançamentos!$C$2:$C$2004,$M$1) -> 0
... A74: ZOOTECNIA | B74: =SUM(C74:M74) -> 16102 | C74: =SUMIFS(Lançamentos!$I$2:$I$2004,Lançamentos!$B$2:$B$2004,A74,Lançamentos!$C$2:$C$2004,$C$1) -> 7056.8 | D74: =SUMIFS(Lançamentos!$I$2:$I$2004,Lançamentos!$B$2:$B$2004,A74,Lançamentos!$C$2:$C$2004,$D$1) -> 1674.92 | E74: =SUMIFS(Lançamentos!$I$2:$I$2004,Lançamentos!$B$2:$B$2004,A74,Lançamentos!$C$2:$C$2004,$E$1) -> 570 | F74: =SUMIFS(Lançamentos!$I$2:$I$2004,Lançamentos!$B$2:$B$2004,A74,Lançamentos!$C$2:$C$2004,$F$1) -> 0 | G74: =SUMIFS(Lançamentos!$I$2:$I$2004,Lançamentos!$B$2:$B$2004,A74,Lançamentos!$C$2:$C$2004,$G$1) -> 330.36 | H74: =SUMIFS(Lançamentos!$I$2:$I$2004,Lançamentos!$B$2:$B$2004,A74,Lançamentos!$C$2:$C$2004,$H$1) -> 0 | I74: =SUMIFS(Lançamentos!$I$2:$I$2004,Lançamentos!$B$2:$B$2004,A74,Lançamentos!$C$2:$C$2004,$I$1) -> 3424.22 | J74: =SUMIFS(Lançamentos!$I$2:$I$2004,Lançamentos!$B$2:$B$2004,A74,Lançamentos!$C$2:$C$2004,$J$1) -> 0 | K74: =SUMIFS(Lançamentos!$I$2:$I$2004,Lançamentos!$B$2:$B$2004,A74,Lançamentos!$C$2:$C$2004,$K$1) -> 0 | L74: =SUMIFS(Lançamentos!$I$2:$I$2004,Lançamentos!$B$2:$B$2004,A74,Lançamentos!$C$2:$C$2004,$L$1) -> 3045.7 | M74: =SUMIFS(Lançamentos!$I$2:$I$2004,Lançamentos!$B$2:$B$2004,A74,Lançamentos!$C$2:$C$2004,$M$1) -> 0
